BEGIN:VCALENDAR
VERSION:2.0
CALSCALE:GREGORIAN
PRODID:adamgibbons/ics
METHOD:PUBLISH
X-PUBLISHED-TTL:PT1H
BEGIN:VEVENT
UID:62@tricity.dance
SUMMARY:OTWARTYCH KOSYNIERÓW 4 | Święto Ulicy
DTSTAMP:20260421T053621Z
DTSTART:20240810T171500Z
DTEND:20240810T200000Z
DESCRIPTION:To już CZWARTE święto ulicy „Otwartych Kosynierów”!\n\nTegorocz
	ne wydarzenie odbywa się pod hasłem ROZBRUK.\n\nTraktujemy go jako punkt w
	yjścia do rozmyślań o naszej przestrzeni\, jej\nrozbruku\, choćby fragment
	arycznym\, chwilowym. Marzy nam się zmiana\, zieleń i\nnowe perspektywy.\n
	\nWidzimy się na Gdyńskich Kosynierów 10.08.2024 r.\nJuż dziś zapiszcie tę
	 datę w swoich kalendarzach!\n\nProgram święta:\n\n11:30 - 12:15 to nie je
	st czas na czytanie w samotności — kolektywne czytanko\n\n13:00 - 14:30 sp
	acer historyczny z Dominiką\n\n14:30 sitodruk z Krzesimirem\n\n14:30 - 17:
	50 gra miejska z Frau Rozbruk\n\n15:30 - 17:00 warsztaty teatralne z Szymo
	nem\n\n16:30 rozmowy o przyszłości ulicy\n\n18:00 wernisaż wystawy Marty i
	 Rafała\n\n18:30 letnia kolacja\n\n-> 19:15 potańcówka swingowa <-\n\nOtwa
	rtych Kosynierów to sąsiedzka\, oddolna inicjatywa mieszkańców i mieszkane
	k\noraz osób związanych z ulicą zawodowo. Od 2021 roku nieustannie próbuje
	my\nrozwijać i dbać o to miejsce. Zapraszamy do śledzenia naszych stron:\n
	\nFB: gdynskichkosynierow\nIG: gdynskichkosynierow\n\nDofinansowano ze śro
	dków Miasta Gdańska oraz Rady Dzielnicy Śródmieście.
URL:https://tricity.dance/event/otwartych-kosynierow-4-or-swieto-ulicy
GEO:54.3605654;18.6452802
LOCATION:Ulica Gdyńskich Kosynierów - ulica Gdyńskich Kosynierów\, 80-866 G
	dańsk\, Polska
STATUS:CONFIRMED
CATEGORIES:Gdańsk
X-ALT-DESC;FMTTYPE=text/html:<p>To już CZWARTE święto ulicy „Otwartych Kosy
	nierów”!</p><p>Tegoroczne wydarzenie odbywa się pod hasłem ROZBRUK.</p><p>
	Traktujemy go jako punkt wyjścia do rozmyślań o naszej przestrzeni, jej ro
	zbruku, choćby fragmentarycznym, chwilowym. Marzy nam się zmiana, zieleń i
	 nowe perspektywy.</p><p>Widzimy się na Gdyńskich Kosynierów 10.08.2024 r.
	<br>Już dziś zapiszcie tę datę w swoich kalendarzach!</p><p>Program święta
	:</p><p>11:30 - 12:15 to nie jest czas na czytanie w samotności — kolektyw
	ne czytanko</p><p>13:00 - 14:30 spacer historyczny z Dominiką</p><p>14:30 
	sitodruk z Krzesimirem</p><p>14:30 - 17:50 gra miejska z Frau Rozbruk</p><
	p>15:30 - 17:00 warsztaty teatralne z Szymonem</p><p>16:30 rozmowy o przys
	złości ulicy</p><p>18:00 wernisaż wystawy Marty i Rafała</p><p>18:30 letni
	a kolacja</p><p><strong>-&gt; 19:15 potańcówka swingowa &lt;-</strong></p>
	<p>Otwartych Kosynierów to sąsiedzka, oddolna inicjatywa mieszkańców i mie
	szkanek oraz osób związanych z ulicą zawodowo. Od 2021 roku nieustannie pr
	óbujemy rozwijać i dbać o to miejsce. Zapraszamy do śledzenia naszych stro
	n:</p><p>FB: gdynskichkosynierow<br>IG: gdynskichkosynierow</p><p>Dofinans
	owano ze środków Miasta Gdańska oraz Rady Dzielnicy Śródmieście.</p>
END:VEVENT
END:VCALENDAR
